BEGIN:VCALENDAR
VERSION:2.0
PRODID:-//ChamberMaster//Event Calendar 2.0//EN
METHOD:PUBLISH
X-PUBLISHED-TTL:P3D
REFRESH-INTERVAL:P3D
CALSCALE:GREGORIAN
BEGIN:VEVENT
DTSTART:20250606T220000Z
DTEND:20250607T040000Z
X-MICROSOFT-CDO-ALLDAYEVENT:FALSE
SUMMARY:Friday Concert
DESCRIPTION:Summer concert
X-ALT-DESC;FMTTYPE=text/html:Summer concert
LOCATION:
UID:e.2178.4081
SEQUENCE:3
DTSTAMP:20260420T002734Z
URL:http://msims.chambermaster.com/events/details/friday-concert-4081
END:VEVENT

END:VCALENDAR
